BEGIN:VCALENDAR
VERSION:2.0
PRODID:-//Les Bascos - ECPv6.15.20//NONSGML v1.0//EN
CALSCALE:GREGORIAN
METHOD:PUBLISH
X-ORIGINAL-URL:https://lesbascos.org
X-WR-CALDESC:Évènements pour Les Bascos
REFRESH-INTERVAL;VALUE=DURATION:PT1H
X-Robots-Tag:noindex
X-PUBLISHED-TTL:PT1H
BEGIN:VTIMEZONE
TZID:Europe/Paris
BEGIN:DAYLIGHT
TZOFFSETFROM:+0100
TZOFFSETTO:+0200
TZNAME:CEST
DTSTART:20240331T010000
END:DAYLIGHT
BEGIN:STANDARD
TZOFFSETFROM:+0200
TZOFFSETTO:+0100
TZNAME:CET
DTSTART:20241027T010000
END:STANDARD
BEGIN:DAYLIGHT
TZOFFSETFROM:+0100
TZOFFSETTO:+0200
TZNAME:CEST
DTSTART:20250330T010000
END:DAYLIGHT
BEGIN:STANDARD
TZOFFSETFROM:+0200
TZOFFSETTO:+0100
TZNAME:CET
DTSTART:20251026T010000
END:STANDARD
BEGIN:DAYLIGHT
TZOFFSETFROM:+0100
TZOFFSETTO:+0200
TZNAME:CEST
DTSTART:20260329T010000
END:DAYLIGHT
BEGIN:STANDARD
TZOFFSETFROM:+0200
TZOFFSETTO:+0100
TZNAME:CET
DTSTART:20261025T010000
END:STANDARD
END:VTIMEZONE
BEGIN:VEVENT
DTSTART;TZID=Europe/Paris:20251201T200000
DTEND;TZID=Europe/Paris:20251201T230000
DTSTAMP:20260423T192135
CREATED:20251128T155629Z
LAST-MODIFIED:20251128T155631Z
UID:34659-1764619200-1764630000@lesbascos.org
SUMMARY:Ciné-discussion : "Vivre et mourir renaître" de Gaël Morel
DESCRIPTION:Projection du film « Vivre et mourir renaître » de Gaël Morel suivie d’une discussion avec : – Dr Marion Arnoult\, cheffe de structure du CeGIDD– Mme Caroline Divernois\, Conseillère en vie affective et sexuelle pour personnes en maladies chroniques (dont VIH) au CHCB– Les Bascos« Emma aime Sammy qui aime Cyril qui l’aime aussi. Ce qui aurait pu être un marivaudage amoureux à la fin du siècle dernier va être dynamité par l’arrivée du sida. »
URL:https://lesbascos.org/evenement/cine-discussion-vivre-et-mourir-renaitre-de-gael-morel/
LOCATION:Cinéma le Royal\, 8 avenue du Maréchal Foch\, Biarritz\, 64200\, France
CATEGORIES:Bascos,Culture,Événements,Militantisme,SLIDER,Tous
ATTACH;FMTTYPE=image/png:https://lesbascos.org/wp-content/uploads/2025/11/Bascos_Cegidd_0112-2-1.png
END:VEVENT
BEGIN:VEVENT
DTSTART;TZID=Europe/Paris:20251212T180000
DTEND;TZID=Europe/Paris:20251212T210000
DTSTAMP:20260423T192135
CREATED:20251128T162347Z
LAST-MODIFIED:20251128T162348Z
UID:34691-1765562400-1765573200@lesbascos.org
SUMMARY:Charentaises & Talons Aiguilles :Une Maison de la Diversité au Pays Basque?
DESCRIPTION:Rejoignez le groupe Charentaises et Talons Aiguilles pour une soirée d’échanges et de convivialité\, centrée sur le thème : Une maison de la diversité au Pays Basque?Au programme :Auberge Espagnole 🍽️ : Apportez un plat (salé ou sucré) ou une boisson à partager. C’est l’occasion de découvrir de nouvelles saveurs et de papoter !Discussion & Échanges 🗣️ : Pour la dernière soirée « Charentaises et Talons Aiguilles » de 2025\, Stéphane nous propose en s’appuyant sur plusieurs vidéos que nous regarderons ensemble à partir de 18h30\, un débat autour du sujet suivant : « Comment faire tribu dans un monde où l’individualisme est partout et ne cesse de nous isoler ? Comment recréer des liens authentiques pour retrouver le sens du « nous » ? Quels sont les secrets du « être\, faire et vivre ensemble » entre générations\, de la coopération\, de la solidarité ? » Son envie :  réinventer les liens à l’autre et renouer avec la puissance du collectif afin de bâtir un avenir solidaire\, plus durable\, plus joyeux et plus humain. Penser un nouveau lieu de vie au pays basque\, de socialisation\, de connexion\, d’activités et d’habitation qui font sens et redonnent du pouvoir d’agir…Qui est  motivé.e et a envie de contribuer pour imaginer ce monde de demain ?
URL:https://lesbascos.org/evenement/charentaises-talons-aiguilles-une-maison-de-la-diversite-au-pays-basque/
LOCATION:Txalaparta\, 10 Rue Jacques Laffitte\, Bayonne\, 64100\, France
CATEGORIES:Bascos,Convivialité,Militantisme,SLIDER,Tous,Txalaparta
ATTACH;FMTTYPE=image/png:https://lesbascos.org/wp-content/uploads/2025/11/Charentaises_1225.png
END:VEVENT
BEGIN:VEVENT
DTSTART;TZID=Europe/Paris:20251214T141500
DTEND;TZID=Europe/Paris:20251214T170000
DTSTAMP:20260423T192135
CREATED:20251128T163258Z
LAST-MODIFIED:20251128T163300Z
UID:34707-1765721700-1765731600@lesbascos.org
SUMMARY:Ciné-Rencontre : “Des preuves d’amour” de Alice Douard
DESCRIPTION:Ciné-Rencontre : projection du film “Des preuves d’amour” de Alice Douard    Suivie d’un échange autour d’un verre offert
URL:https://lesbascos.org/evenement/cine-rencontre-des-preuves-damour-de-alice-douard/
LOCATION:Cinéma le Pixel\, 20 avenue de la Moutète\, Orthez\, 64300
CATEGORIES:Arcolan,Culture,Militantisme,SLIDER,Tous
ATTACH;FMTTYPE=image/png:https://lesbascos.org/wp-content/uploads/2025/11/Arcolan_1225.png
ORGANIZER;CN="Arcolan":MAILTO:asso.arcolan@gmail.com
END:VEVENT
END:VCALENDAR