BEGIN:VCALENDAR
VERSION:2.0
PRODID:-//Les Bascos - ECPv6.15.20//NONSGML v1.0//EN
CALSCALE:GREGORIAN
METHOD:PUBLISH
X-WR-CALNAME:Les Bascos
X-ORIGINAL-URL:https://lesbascos.org
X-WR-CALDESC:Évènements pour Les Bascos
REFRESH-INTERVAL;VALUE=DURATION:PT1H
X-Robots-Tag:noindex
X-PUBLISHED-TTL:PT1H
BEGIN:VTIMEZONE
TZID:Europe/Paris
BEGIN:DAYLIGHT
TZOFFSETFROM:+0100
TZOFFSETTO:+0200
TZNAME:CEST
DTSTART:20240331T010000
END:DAYLIGHT
BEGIN:STANDARD
TZOFFSETFROM:+0200
TZOFFSETTO:+0100
TZNAME:CET
DTSTART:20241027T010000
END:STANDARD
BEGIN:DAYLIGHT
TZOFFSETFROM:+0100
TZOFFSETTO:+0200
TZNAME:CEST
DTSTART:20250330T010000
END:DAYLIGHT
BEGIN:STANDARD
TZOFFSETFROM:+0200
TZOFFSETTO:+0100
TZNAME:CET
DTSTART:20251026T010000
END:STANDARD
BEGIN:DAYLIGHT
TZOFFSETFROM:+0100
TZOFFSETTO:+0200
TZNAME:CEST
DTSTART:20260329T010000
END:DAYLIGHT
BEGIN:STANDARD
TZOFFSETFROM:+0200
TZOFFSETTO:+0100
TZNAME:CET
DTSTART:20261025T010000
END:STANDARD
END:VTIMEZONE
BEGIN:VEVENT
DTSTART;TZID=Europe/Paris:20250507T080000
DTEND;TZID=Europe/Paris:20250523T170000
DTSTAMP:20260424T052029
CREATED:20250403T084613Z
LAST-MODIFIED:20250430T134440Z
UID:34187-1746604800-1748019600@lesbascos.org
SUMMARY:Focales : Festival itinérant de films LGBTQI+
DESCRIPTION:Toutes les informations :https://focales.net/ \n\n\n\nProgramme
URL:https://lesbascos.org/evenement/focales-festival-itinerant-de-films-lgbtqi/
CATEGORIES:Culture,Événements,Militantisme,Tous
ATTACH;FMTTYPE=image/jpeg:https://lesbascos.org/wp-content/uploads/2025/04/affiche-focales.jpg
ORGANIZER;CN="Nos Couleurs - Landes":MAILTO:noscouleurs40@gmail.com
END:VEVENT
BEGIN:VEVENT
DTSTART;TZID=Europe/Paris:20250517T100000
DTEND;TZID=Europe/Paris:20250517T180000
DTSTAMP:20260424T052029
CREATED:20250509T124134Z
LAST-MODIFIED:20250509T124315Z
UID:34298-1747476000-1747504800@lesbascos.org
SUMMARY:Journée internationale contre les LGBT+phobies        Pau / Orthez
DESCRIPTION:PAU >>>     • 10h à 12h : Groupe de discussion LGBT+ animé par les bénévoles d’Arcolan. Centre LGBT+ Béarn (46 bd Alsace Lorraine à Pau).Inscriptions à asso.arcolan@gmail.com ou 0634382503. • 16h à 18h : Rassemblement contre les LGBT+ phobiesStands\, prises de parole\, arc-en-ciel géant !Place Clémenceau à Pau. ORTHEZ >>> • 14h à 18h : Journée des Familles sur la thématique « La diversité\, une richesse »Animations\, ateliers\, jeux\, scène ouverte\, musique\, théâtre… Animation d’un stand interactif (« un monde Arc-en-ciel ») par les bénévoles d’Arcolan.Parc Gascoin à Orthez
URL:https://lesbascos.org/evenement/journee-internationale-contre-les-lgbtphobies-pau-orthez/
CATEGORIES:Arcolan,Événements,Militantisme,SLIDER,Tous
ATTACH;FMTTYPE=image/png:https://lesbascos.org/wp-content/uploads/2025/05/Design-sans-titre-96.png
ORGANIZER;CN="Arcolan Pau B%C3%A9arn":MAILTO:asso.arcolan@gmail.com
END:VEVENT
BEGIN:VEVENT
DTSTART;TZID=Europe/Paris:20250517T120000
DTEND;TZID=Europe/Paris:20250517T130000
DTSTAMP:20260424T052029
CREATED:20250509T122326Z
LAST-MODIFIED:20250509T124201Z
UID:34287-1747483200-1747486800@lesbascos.org
SUMMARY:Journée internationale contre les LGBT+phobies Bayonne
DESCRIPTION:Le Samedi 17 mai sera la journée internationale de lutte contre l’homophobie et la transphobie.Cet événement célébré dans plus de 60 pays commémore la décision prise par l’Organisation Mondiale de Santé le 17 mai 1990 de ne plus considérer l’homosexualité comme une maladie mentale. Depuis\, cette journée permet d’attirer l’attention sur la violence et les discriminations subies par les Lesbiennes\, les Gays\, les Bisexuels\, les Transgenres\, les Intersexués et toutes les autres personnes ayant des orientations affectives\, des identités ou des expressions de genre différentes.Nous la célébrerons aussi au Pays basque avec des initiatives de plusieurs municipalités : illumination de bâtiment\, drapeau aux couleurs arc-en-ciel au fronton de la mairie\, etc. autant d’initiatives perçues comme inclusives par la communauté LGBTI+  et utiles pour toutes et tous.Il nous a semblé cependant nécessaire de ne pas se limiter à ces actes symboliques et proposons de participer à un rassemblement devant la Mairie de Bayonne le samedi 17 mai à 12h00 pour témoigner de la réalité des LGBT+phobies sur notre territoiremais aussi exiger que le gouvernement passe des déclarations de condamnation aux mesures nécessaires.La lutte contre les LGBTI phobies ne concerne évidemment pas que les seuls LGBT+Elle nous concerne toutes et tous.
URL:https://lesbascos.org/evenement/journee-internationale-contre-les-lgbtphobies-2/
LOCATION:place de la Liberté\, place de la Liberté\, Bayonne\, France
CATEGORIES:Bascos,Événements,Militantisme,SLIDER,Tous,Transidentités
ATTACH;FMTTYPE=image/png:https://lesbascos.org/wp-content/uploads/2025/05/170524_Entete-1080-x-1350-px-2.png
ORGANIZER;CN="Les Bascos":MAILTO:lesbascos@gmail.com
END:VEVENT
BEGIN:VEVENT
DTSTART;TZID=Europe/Paris:20250517T150000
DTEND;TZID=Europe/Paris:20250610T230000
DTSTAMP:20260424T052029
CREATED:20250509T125207Z
LAST-MODIFIED:20250509T125209Z
UID:34305-1747494000-1749596400@lesbascos.org
SUMMARY:Exposition : Pride du Pays Basque
DESCRIPTION:Retrouvez l’exposition « Pride du Pays Basque »La marche des Fiertés de Biarritz depuis ses originesDu 17 mai au 10 Juin au Cinéma les Variétés à Hendaye
URL:https://lesbascos.org/evenement/exposition-pride-du-pays-basque/
LOCATION:Cinéma les Variétés Hendaye\, 10 Rue du Théatre\, Hendaye\, 64700\, France
CATEGORIES:Bascos,Culture,Militantisme,SLIDER,Tous
ATTACH;FMTTYPE=image/jpeg:https://lesbascos.org/wp-content/uploads/2025/05/expopride.jpg
ORGANIZER;CN="Les Bascos":MAILTO:lesbascos@gmail.com
END:VEVENT
BEGIN:VEVENT
DTSTART;TZID=Europe/Paris:20250523T200000
DTEND;TZID=Europe/Paris:20250629T200000
DTSTAMP:20260424T052029
CREATED:20250513T134607Z
LAST-MODIFIED:20250515T124647Z
UID:34315-1748030400-1751227200@lesbascos.org
SUMMARY:Mois des Fiertés
DESCRIPTION:Du 23 Mai au 29 Juin – Expositions\, ciné-discussions\, soirées\, spectacles\, sorties sportives…
URL:https://lesbascos.org/evenement/mois-des-fiertes-3/
CATEGORIES:Bascos,Convivialité,Culture,Événements,Militantisme,Prévention,Pride,SLIDER,Sport,Tous,Transidentités
ATTACH;FMTTYPE=image/png:https://lesbascos.org/wp-content/uploads/2025/05/mois-des-fiertes-01.png
ORGANIZER;CN="Les Bascos":MAILTO:lesbascos@gmail.com
END:VEVENT
END:VCALENDAR